BEGIN:VCALENDAR
VERSION:2.0
PRODID:-//Kultur in Weitra - ECPv6.15.20//NONSGML v1.0//EN
CALSCALE:GREGORIAN
METHOD:PUBLISH
X-ORIGINAL-URL:https://weitra-kultur.at
X-WR-CALDESC:Veranstaltungen für Kultur in Weitra
REFRESH-INTERVAL;VALUE=DURATION:PT1H
X-Robots-Tag:noindex
X-PUBLISHED-TTL:PT1H
BEGIN:VTIMEZONE
TZID:Europe/Vienna
BEGIN:DAYLIGHT
TZOFFSETFROM:+0100
TZOFFSETTO:+0200
TZNAME:CEST
DTSTART:20250330T010000
END:DAYLIGHT
BEGIN:STANDARD
TZOFFSETFROM:+0200
TZOFFSETTO:+0100
TZNAME:CET
DTSTART:20251026T010000
END:STANDARD
BEGIN:DAYLIGHT
TZOFFSETFROM:+0100
TZOFFSETTO:+0200
TZNAME:CEST
DTSTART:20260329T010000
END:DAYLIGHT
BEGIN:STANDARD
TZOFFSETFROM:+0200
TZOFFSETTO:+0100
TZNAME:CET
DTSTART:20261025T010000
END:STANDARD
BEGIN:DAYLIGHT
TZOFFSETFROM:+0100
TZOFFSETTO:+0200
TZNAME:CEST
DTSTART:20270328T010000
END:DAYLIGHT
BEGIN:STANDARD
TZOFFSETFROM:+0200
TZOFFSETTO:+0100
TZNAME:CET
DTSTART:20271031T010000
END:STANDARD
END:VTIMEZONE
BEGIN:VEVENT
DTSTART;TZID=Europe/Vienna:20260919T200000
DTEND;TZID=Europe/Vienna:20260919T220000
DTSTAMP:20260421T121714
CREATED:20251222T083232Z
LAST-MODIFIED:20251222T083232Z
UID:2000-1789848000-1789855200@weitra-kultur.at
SUMMARY:COBARIO - Strings on Fire!
DESCRIPTION:Das mehrfach ausgezeichnete Trio startete 2006 in Barcelona als Straßenmusikanten. Schon bald wurden Cobario auf Festivals und dann in die Konzerthäuser Europas\, Nordamerikas und Asiens eingeladen. Mittlerweile haben die Wiener Musiker in über 30 Ländern konzertiert und das Publikum von New York bis Hong Kong begeistert.\nOft genügen schon ein paar Takte in der ungewöhnlichen Besetzung aus Geige und zwei Gitarren\, um eine wahre Explosion von Bildern im Kopf auszulösen.\nDer unwiderstehliche Charme und die ansteckende Spielfreude\, mit der die drei Vollblutmusiker von Cobario das alles auf die Bühne bringen\, machen jedes ihrer Konzerte zum Genuss. \nAK Niederösterreich-Mitglieder sowie ÖGB-Mitglieder erhalten gegen Vorlage ihrer AK Service-Karte bzw. der ÖGB Mitgliedskarte € 5\,- Rabatt auf eine Eintrittskarte.
URL:https://weitra-kultur.at/event/cobario-strings-on-fire/
LOCATION:Schloss Weitra\, Weitra
ATTACH;FMTTYPE=image/jpeg:https://weitra-kultur.at/wp-content/uploads/2025/12/cobario_stringsonfire_promo2.jpg
END:VEVENT
BEGIN:VEVENT
DTSTART;VALUE=DATE:20261128
DTEND;VALUE=DATE:20261130
DTSTAMP:20260421T121714
CREATED:20250108T165748Z
LAST-MODIFIED:20260120T105407Z
UID:238-1795824000-1795996799@weitra-kultur.at
SUMMARY:Weitraer Adventtage
DESCRIPTION:Wenn Weitra\, wie jedes Jahr am 1. Adventwochenende in vorweihnachtlichem Glanz erstrahlt\, wird für Besucher aus Nah und Fern ein Advent-Markt-Märchen wahr: bodenständiges Kunsthandwerk\, heimische Schmankerln\, lebende Werkstätten und ein umfangreiches Kulturprogramm machen die Weitraer Advent-Tage\, in der einzigartigen Kulisse der mittelalterlichen Altstadt und des Renaissanceschlosses\, zu einem unvergesslichen Erlebnis. \nDie Weitraer Advent-Tage sind seit mehr als 35 Jahren besonderer Höhepunkt der Waldviertler Vorweihnachtszeit. Rund 25.000 Besucher kommen jährlich zum Adventmarkt in die romantische Altstadt von Weitra und lassen sich von der unverwechselbaren Atmosphäre mit all den Kostbarkeiten und Raritäten verzaubern. \nDie Vorfreude auf die Weitraer Advent-Tage wird bereits bei der feierlichen Eröffnung am Freitagabend am Rathausplatz spürbar\, wenn in festlichem Rahmen die Lichter des großen Christbaumes vor dem Rathaus entzündet werden. Die Kinder der Volksschule Weitra begleiten die Eröffnung musikalisch und verleihen der Stadt mit ihrem Laternenzug einen ganz besonderen Glanz.
URL:https://weitra-kultur.at/event/veranstaltung-1/
LOCATION:Altstadt\, Weitra\, 3970\, Austria
ATTACH;FMTTYPE=image/jpeg:https://weitra-kultur.at/wp-content/uploads/2025/01/Waldviertel-Advent-2018-071CWaldviertel-Tourismus-Studio-Kerschbaum-1-scaled.jpg
END:VEVENT
END:VCALENDAR