BEGIN:VCALENDAR
VERSION:2.0
PRODID:-//Kultur in Weitra - ECPv6.15.20//NONSGML v1.0//EN
CALSCALE:GREGORIAN
METHOD:PUBLISH
X-ORIGINAL-URL:https://weitra-kultur.at
X-WR-CALDESC:Veranstaltungen für Kultur in Weitra
REFRESH-INTERVAL;VALUE=DURATION:PT1H
X-Robots-Tag:noindex
X-PUBLISHED-TTL:PT1H
BEGIN:VTIMEZONE
TZID:Europe/Vienna
BEGIN:DAYLIGHT
TZOFFSETFROM:+0100
TZOFFSETTO:+0200
TZNAME:CEST
DTSTART:20240331T010000
END:DAYLIGHT
BEGIN:STANDARD
TZOFFSETFROM:+0200
TZOFFSETTO:+0100
TZNAME:CET
DTSTART:20241027T010000
END:STANDARD
BEGIN:DAYLIGHT
TZOFFSETFROM:+0100
TZOFFSETTO:+0200
TZNAME:CEST
DTSTART:20250330T010000
END:DAYLIGHT
BEGIN:STANDARD
TZOFFSETFROM:+0200
TZOFFSETTO:+0100
TZNAME:CET
DTSTART:20251026T010000
END:STANDARD
BEGIN:DAYLIGHT
TZOFFSETFROM:+0100
TZOFFSETTO:+0200
TZNAME:CEST
DTSTART:20260329T010000
END:DAYLIGHT
BEGIN:STANDARD
TZOFFSETFROM:+0200
TZOFFSETTO:+0100
TZNAME:CET
DTSTART:20261025T010000
END:STANDARD
END:VTIMEZONE
BEGIN:VEVENT
DTSTART;TZID=Europe/Vienna:20251129T190000
DTEND;TZID=Europe/Vienna:20251129T203000
DTSTAMP:20260421T121648
CREATED:20250528T113116Z
LAST-MODIFIED:20250528T113116Z
UID:1977-1764442800-1764448200@weitra-kultur.at
SUMMARY:Longfield Gospel
DESCRIPTION:2019 sangen sie mit den Wiener Symphonikern und Conchita Wurst beim Fest der Freude vor 11.000 Menschen am Wiener Heldenplatz\, 2024 mit Thorsteinn Einarssson auf der Hauptbühne am Wiener Donauinselfest. \nDer Chor gehört zum Besten\, was Österreichs Gospel-Landschaft zu bieten hat. THE LONGFIELD GOSPEL CHOIR sang vor Bundespräsident Heinz Fischer in der Hofburg\, gestaltete Verona Feldbuschs Hochzeit im Stephansdom\, spielte anlässlich des Papstbesuchs von Benedikt dem XVI und arbeitete im Rahmen vom JazzFestWien mit dem 10-fachen Grammy-Gewinner Bobby McFerrin zusammen. Bekannt wurde der Chor auch durch seinen erfolgreichen Auftritt bei der ORF-Show „Die große Chance“\, wo er von der Jury die Bestwertung (4 mal „Grün“) erhielt. \nBei dem Konzert in Weitra werden Sängerinnen und Sänger sowie die aus den USA stammende Solistin Beverly Minor eine Auswahl aus dem aktuellen Programm singen. \n„Gospel-Musik ist etwas Spontanes\, Lebendiges und in ihrem Facetten-Reichtum beinahe Unvergleichliches. Ausgehend von der Tradition der „schwarzen Spirituals“ wurde sie in den „Gospel-Songs“ der letzten Jahrzehnte immer wieder zum religiösen musikalischen Ausdruck der jeweiligen Zeit\, aber auch ihrer aktuellen Probleme. Sie ist zeitlos\, stets von einer lebendigen Rhythmik durchzogen und hat bis heute nichts an Spannung und Ausdruckskraft verloren. \nLONGFIELD GOSPEL steht für Lebensfreude\, mitreißende Rhythmen\, Mitmach-Konzerte und berührende Momente! \nTicketpreis online: Weitras Advent-Highlight: LONGFIELD GOSPEL Tickets\, Sat\, 29 Nov 2025 – Eventjet Events\nTickets persönlich: Tourismusservice Weitra T 02856/5006-50 \n 
URL:https://weitra-kultur.at/event/longfield-gospel/
LOCATION:Pfarrkirche Weitra\, Kirchenplatz 116\, 3970 Weitra \, Stadtpfarrkirche\, 3970\, Austria
ATTACH;FMTTYPE=image/jpeg:https://weitra-kultur.at/wp-content/uploads/2025/05/LGC-Presse-2-scaled.jpg
END:VEVENT
BEGIN:VEVENT
DTSTART;TZID=Europe/Vienna:20251005T160000
DTEND;TZID=Europe/Vienna:20251005T180000
DTSTAMP:20260421T121648
CREATED:20250528T104644Z
LAST-MODIFIED:20250528T104806Z
UID:1974-1759680000-1759687200@weitra-kultur.at
SUMMARY:Südseefieber
DESCRIPTION:Reinhard Nowak\, Angelika Niedetzky\, Nadja Maleh\, Andreas Steppan\nUrlaubsträume\, Midlife-Crisis und eine Prise Drama\n“Südseefieber” ist eine neue turbulente Strandkomödie. Vier gestresste Mittvierziger aus Österreich landen in der Südsee und geraten dort gehörig ins Schleudern. Zwischen Palmen\, Pool und Meer kommt so einiges ans Licht\, was lieber im Verborgenen geblieben wäre. Mit einer Prise Lebenswitz und einer Portion schrägem Humor nimmt das Stück scheinbare Prinzipien der Figuren auseinander.\nÜberraschende Wendungen\, wortwitzige Dialoge und mitreißende Musik sorgen für Kurzweil. “Südseefieber” ist die perfekte Sommerunterhaltung für alle\, die Lust auf einen Ausflug in tropische Gefilde haben – wenn auch nur im Theatersessel. Aloha! \nTickets online: Südseefieber Tickets\, Sun\, 05 Oct 2025 – Eventjet Events\nTickets persönlich: Tourismusservice Weitra T 02856/5006-50 \nFoto (c)zVg.
URL:https://weitra-kultur.at/event/suedseefieber/
LOCATION:Schloss Weitra\, Weitra
ATTACH;FMTTYPE=image/png:https://weitra-kultur.at/wp-content/uploads/2025/05/FB_Suedseefieber.png
END:VEVENT
BEGIN:VEVENT
DTSTART;TZID=Europe/Vienna:20250829T193000
DTEND;TZID=Europe/Vienna:20250829T213000
DTSTAMP:20260421T121648
CREATED:20250527T094834Z
LAST-MODIFIED:20250527T094950Z
UID:1964-1756495800-1756503000@weitra-kultur.at
SUMMARY:Julian Le Play
DESCRIPTION:Da ist es wieder: das\, was Julian le Play das »Rauschen« nennt. Im ersten neuen Song seit seinem 2020 erschienen Album »Tandem« hat er diese ganz besondere Form der Unruhe eingefangen\, die ihm urplötzlich durch die Adern schoss: die Lust aufs Ausbrechen\, Wagen und Erleben. Auf eine lustvolle Flucht nach vorn\, hinaus aus dem Status quo und mit dem Kopf voraus ins pure Jetzt – ohne Angst vor dem Fall.\nLiest sich gut? Klingt noch besser: »Rauschen« beschreibt dieses besondere Gefühlserlebnis nicht nur\, sondern ist auch selbst aus ihm heraus entstanden: als eine zähe Songwriting-Session in die Verlängerung ging\, es plötzlich klick machte und dann alles wie von selbst zu laufen schien. Nicht viel später war »Rauschen« im Kasten und fand in der Villa Lala in Wien zur Vollendung – in Julians künstlerischem Zuhause\, wo seit einiger Zeit Musiker*innen aller Genres in Studios und Songwriting-Räumen Tür an Tür arbeiten.\nJetzt trägt das Rauschen Julian le Play in ein neues musikalisches Kapitel – und wir bekommen mit dieser neuen Single unseren ganz persönlichen »Spürst-du-es-auch«-Moment serviert: eine emotionale Einladung\, sich den Augenblick zu packen und ihn zu leben. It’s a kind of magic!\nFreuen Sie sich auf einen schönen Konzertabend im bezaubernden Schlosshof. \nPreise: \nErwachsene: Stehplatz € 42\,-\nKinder bis 14 Jahre: – 50 %\nKARTEN unter: Julian le Play Tickets (eventjet.at)\noder im Tourismus Service unter T 02856/5006-50 oder Schloss Weitra (Mai – Okt) \nFoto(c) Florian Mooshammer
URL:https://weitra-kultur.at/event/julian-le-play/
LOCATION:Schloss Weitra\, Weitra
ATTACH;FMTTYPE=image/jpeg:https://weitra-kultur.at/wp-content/uploads/2025/05/Julian-Le-Play1czVg-scaled.jpg
END:VEVENT
BEGIN:VEVENT
DTSTART;TZID=Europe/Vienna:20250827T193000
DTEND;TZID=Europe/Vienna:20250827T213000
DTSTAMP:20260421T121648
CREATED:20250527T094212Z
LAST-MODIFIED:20250527T094212Z
UID:1961-1756323000-1756330200@weitra-kultur.at
SUMMARY:Fredi Jirkal - Jemand muss es ihm sagen
DESCRIPTION:Ist Fredi Jirkal jetzt verrückt geworden oder ganz einfach nur durchgeknallt? Sein „Powerwalking“ zum Beispiel: Täglich 1 ½ Stunden – mit einer Durchschnittsgeschwindigkeit von 0\,5 km/h – führt Fredi seinen neuen Rasenroboter an der Leine durch den Garten… Danach ist dann für beide mal Pause! Wie unterschiedlich sich Fredi und Roboter nun wieder aufladen\, erzählt Jirkal – neben vieler weiterer schrulliger Anwandlungen – in seinem neuesten Programm… Wie seit vielen Jahren gewohnt – extrem authentisch und einfach herzerfrischend. \nErwachsene: Sitzplatz freie Platzwahl € 25\,-\nAK NÖ -15 % Rabatt – gegen Vorlage der Mitgliedskarte an der Abendkassa\, pro Mitgliedskarte 2 ermäßigte Tickets\nKinder bis 14 Jahre: – 50 %\nKARTEN unter: FREDI JIRKAL – Jemand muss es ihm sagen Tickets\, Wed\, 27 Aug 2025 – Eventjet Events\noder im Tourismus Service unter T 02856/5006-50 oder Schloss Weitra (Mai – Okt.)
URL:https://weitra-kultur.at/event/fredi-jirkal-jemand-muss-es-ihm-sagen/
LOCATION:Schloss Weitra\, Weitra
ATTACH;FMTTYPE=image/jpeg:https://weitra-kultur.at/wp-content/uploads/2025/05/pressefoto_fredijirkal_26.jpg
END:VEVENT
BEGIN:VEVENT
DTSTART;TZID=Europe/Vienna:20250813T193000
DTEND;TZID=Europe/Vienna:20250813T220000
DTSTAMP:20260421T121648
CREATED:20250527T083808Z
LAST-MODIFIED:20250527T083808Z
UID:1958-1755113400-1755122400@weitra-kultur.at
SUMMARY:Schlagersommer - M. Pircher & F. Jordi
DESCRIPTION:Erleben Sie einen wunderbaren musikalischen Abend mit den schönsten Schlagerliedern von Marc Pircher und Francine Jordi! Beste Stimmung und viel Gefühl sind garantiert. Der überdachte Schlosshof ist dabei der perfekte Rahmen! \nTickets online: Schlagersommer mit Francine Jordi und Marc Pircher Tickets\, Wed\, 13 Aug 2025 – Eventjet Events\nTickets persönlich: Tourismusservice Weitra T 02856/5006-50\nTicketpreis: € 45\,-\nErmäßigungen für Kinder und Mitglieder der AK NÖ.
URL:https://weitra-kultur.at/event/schlagersommer-m-pircher-f-jordi/
LOCATION:Schloss Weitra\, Weitra
ATTACH;FMTTYPE=image/jpeg:https://weitra-kultur.at/wp-content/uploads/2025/05/Francine-Jordi.jpg
END:VEVENT
BEGIN:VEVENT
DTSTART;TZID=Europe/Vienna:20250809T200000
DTEND;TZID=Europe/Vienna:20250809T223000
DTSTAMP:20260421T121648
CREATED:20250527T083025Z
LAST-MODIFIED:20250527T095014Z
UID:1955-1754769600-1754778600@weitra-kultur.at
SUMMARY:INSIEME
DESCRIPTION:4 außergewöhnliche Persönlichkeiten wie sie unterschiedlicher nicht sein können!\n4 außergewöhnliche Stimmen wie sie unterschiedlicher nicht sein können!\nAber gemeinsam\, eben „INSIEME“\, unschlagbar\, wenn sie die Hits der Italo Pop Szene\, aber nicht nur diese\, in einer außergewöhnlich unterhaltsamen Show zum Besten geben.\nINSIEME: das sind MONIKA BALLWEIN\, CHRISTIAN DEIX\, der mexikanische Tenor RENE VELAZQUEZ-DIAZ und ERIK ARNO.\nDer musikalische Bogen ihrer mitreißenden Show „Die Italienische Nacht“ spannt sich von Al Bano bis Adriano\, von Laura Pausini bis Gianna Nannini und von Ramazzotti bis Pavarotti. Jeder Song zum Mitsingen. Jeder Song ein Hit. Das Beste\, was die italienische Musik zu bieten hat. Von Volare bis Azzurro. Von Insieme bis Gloria. Von Piccola e fragile bis Gente di mare. Von Buona domenica bis Ti amo. Von Maledetta primavera bis Nessun dorma.\nINSIEME bringen Abwechslung. Kein Konzert gleicht dem anderen.\nLeidenschaft und Energie\, Liebe zur Musik und eine Prise Humor machen INSIEME auf der Bühne so einzigartig wie das italienische Lebensgefühl. \nTickets online: INSIEME – Eine italienische Nacht Tickets\, Sat\, 09 Aug 2025 – Eventjet Events\nTickets: persönlich: Tourismusservice Weitra T 02856/5006-50\nTicketpreis: € 40\,-/€ 44\,-\nErmäßigungen für Kinder und Mitglieder der AK NÖ \nFoto (c) Alexander Haas
URL:https://weitra-kultur.at/event/insieme/
LOCATION:Schloss Weitra\, Weitra
ATTACH;FMTTYPE=image/jpeg:https://weitra-kultur.at/wp-content/uploads/2025/05/Insieme-Foto-neucAlexander-Haas-scaled.jpg
END:VEVENT
BEGIN:VEVENT
DTSTART;TZID=Europe/Vienna:20250704T193000
DTEND;TZID=Europe/Vienna:20250803T220000
DTSTAMP:20260421T121648
CREATED:20250527T100433Z
LAST-MODIFIED:20250527T100433Z
UID:1967-1751657400-1754258400@weitra-kultur.at
SUMMARY:Schloss Weitra Festival: Liebesgeschichten & Heiratssachen
DESCRIPTION:Strauss & Nestroy\nAnlässlich des Johann Strauß Jahres präsentieren wir Ihnen in der kommenden Saison die Nestroy Komödie „Liebesgeschichten und Heiratssachen“\, veredelt durch die unvergesslichen Melodien von Johann Strauss: Nestroys Wortwitz in Kombination mit der sphärischen Leichtigkeit der Musik von Strauß.\nDer wohlhabende Ex-Fleischhauer Florian Fett hält sich für den Mittelpunkt der Welt und wünscht sich einen adeligen Schwiegersohn. Doch der Vater des Adligen lehnt dies aus Standesgründen strikt ab. Währenddessen wird Fetts wohlhabende Ex-Schwägerin beinahe Opfer eines Heiratsschwindlers\, der sich als Adeliger ausgibt. Als der Betrüger entlarvt wird\, wendet sie sich schließlich dem sicheren Ex-Schwager zu. Nur die junge Fleischhauerstochter und der verliebte Adelige trotzen allen Standesdünkel und finden trotz zahlreicher Verwirrungen ihr Liebesglück. \nSpieltermine\nFreitag\, 4. Juli 2025 19.30 Uhr Premiere\nFreitag                       19.30 Uhr\nSamstag                    15.00 Uhr & 19.30 Uhr\nSonntag                     16.00 Uhr\n(Das Wochenende 18. – 20. Juli ist spielfrei) \nTickets online: Online-Shop Ticket-Shop\nT 0664/5150986\nE festival@schloss-weitra.at\nTourismusservice Weitra\, Rathausplatz 1\, 3970 Weitra \nTicketpreis: € 39 / € 49 /€ 62\nFoto (c)Peter Burgstaller
URL:https://weitra-kultur.at/event/schloss-weitra-festival-liebesgeschichten-heiratssachen/
LOCATION:Schloss Weitra\, Weitra
ATTACH;FMTTYPE=image/jpeg:https://weitra-kultur.at/wp-content/uploads/2025/05/Schloss_Weitra_Festival_Liebesgeschichten_und_Heiratssachen_Pressefoto_020-scaled.jpg
END:VEVENT
BEGIN:VEVENT
DTSTART;TZID=Europe/Vienna:20250606T193000
DTEND;TZID=Europe/Vienna:20250606T213000
DTSTAMP:20260421T121648
CREATED:20250527T082313Z
LAST-MODIFIED:20250527T100522Z
UID:1952-1749238200-1749245400@weitra-kultur.at
SUMMARY:Monika Ballwein Celebrates The Beatles
DESCRIPTION:DIE NEUE ULTIMATIVE SHOW!\nDIE STIMME! DER SOUND! DIE BAND! DIE VISION!\nPOESIE\, GLAMOUR\, NOSTALGIE:\nMONIKA BALLWEIN – ÖSTERREICHS FIRST LADY IN SACHEN GESANGESKUNST\, ARRANGIERT UND REHARMONISIERT 23 BEATLESSONGS UND VERPASST DAMIT DEN KLASSIKERN MIT IHRER STIMME EINE GANZ PERSÖNLICHE\, EINZIGARTIGE NOTE! \nErleben Sie das Konzerthighlight im wunderschönen Schloss Weitra.\nTicket unter: Monika Ballwein celebrates The Beatles Tickets\, Fri\, 06 Jun 2025 – Eventjet Events sowie im Tourismusservice Weitra unter T 02856/5006-50.\nTicketpreis: € 39\,-\nErmäßigungen für Kinder und Mitglieder der AK NÖ \nFoto (c)Stefan Panfilli
URL:https://weitra-kultur.at/event/monika-ballwein-celebrates-the-beatles/
LOCATION:Schloss Weitra\, Weitra
ATTACH;FMTTYPE=image/png:https://weitra-kultur.at/wp-content/uploads/2025/05/10801920cStefanPanfilli-1.png
END:VEVENT
BEGIN:VEVENT
DTSTART;TZID=Europe/Vienna:20250517T200000
DTEND;TZID=Europe/Vienna:20250517T235900
DTSTAMP:20260421T121648
CREATED:20250129T090500Z
LAST-MODIFIED:20250129T100815Z
UID:1678-1747512000-1747526340@weitra-kultur.at
SUMMARY:Andreas Ferner - Kabarett "Nie wieder Schule"
DESCRIPTION:Ja\, es gibt ein Leben außerhalb der Schule – auch für Andreas Ferner\, „Lehrer des Jahres“ und preisgekrönter Kabarettist der Herzen. Nach 25 Jahren hängt er Kreide und Schwamm an den Nagel\, spendet seinen Overheadprojektor dem technischen Museum und startet jetzt als Vollzeitkabarettist mit seinem Programm „Nie mehr Schule!“ neu durch. \nWeit über den Schulbrotrand hinaus wirft er sich dabei kopfüber in die Abenteuer einer neuen Berufung\, einer neuen Liebe und eines neuen Lebens. Überraschende Probleme\, mit denen er trotz seiner fachlichen Kenntnisse in Rechnungswesen nicht rechnen konnte\, treten hierbei auf. Dauert eine Stunde tatsächlich länger als 50 Minuten? Haben auch Nicht-Lehrer mit 50 graue Haare? Warum gibt mir meine Dating-Partnerin nur ein Genügend für den Gesamteindruck? \nDiese und viele weitere epochale Fragen werden zwerchfellerschütternd ehrlich beantwortet. Ein Insider packt aus! „Nie mehr Schule“ – ein Feuerwerk aus Humor und einer Prise Floridsdorfer Lebensweisheit!
URL:https://weitra-kultur.at/event/andreas-ferner-kabarett-nie-wieder-schule/
LOCATION:Volksheim Weitra
ATTACH;FMTTYPE=image/webp:https://weitra-kultur.at/wp-content/uploads/2025/01/Andreas_Ferner-PR_Foto_C_Philipp_Grausam1.webp
END:VEVENT
END:VCALENDAR